BEGIN:VCALENDAR
VERSION:2.0
PRODID:-//https://generationyproductions.com///NONSGML kigkonsult.se iCalcreator 2.10.15//
METHOD:PUBLISH
BEGIN:VEVENT
UID:20260423T081112UTC-8508tDkWmo@https://generationyproductions.com/
DTSTAMP:20260423T081112Z
DESCRIPTION:Πατρινό Καρναβάλι για πάντα! - Three DJs travel from Patras\, G
 reece for a memorable night with 80s\, 90s\, Latin and Greek music\, strai
 ght from the famous Carnival of Patras. https://generationyproductions.com
 /past-events/event/5-dance-party-patras-carnival-party-masquerade-apokriat
 iko-at-melrose
DTSTART:20230204T210000Z
DTEND:20230205T050000Z
LOCATION:Melrose Penthouse (36-08 33rdstreet\, New York\, NY\, United State
 s\, New York)
SUMMARY:Dance Party - Patra’s Carnival Party (Masquerade - Apokriatiko) at 
 Melrose
URL:https://generationyproductions.com/past-events/event/5-dance-party-patr
 as-carnival-party-masquerade-apokriatiko-at-melrose
END:VEVENT
END:VCALENDAR
